BEGIN:VCALENDAR
VERSION:2.0
PRODID:-//Sabre//Sabre VObject 4.5.3//EN
CALSCALE:GREGORIAN
BEGIN:VEVENT
UID:sabre-vobject-dd4f90de-1e00-4df5-ac28-7619df01f35e
DTSTAMP:20260425T120858Z
SUMMARY:Holiday Party
DESCRIPTION:The National\, Treasury Room (in the back of The Vault)\n120 N.
  Robinson\, OKC\n
X-ALT-DESC:FMTTYPE=text/html:<!DOCTYPE HTML PUBLIC "-//W3C//DTD HTML 3.2//E
 N"><HTML><p>The National\, Treasury Room (in the back of The Vault)<br />\
 n120 N. Robinson\, OKC</p>\n</HTML>
CREATED;TZID=America/Chicago:20260424T111534
URL;VALUE=URI:https://www.crecokc.com/events/uncoming-events/holiday-party-
 3
DTSTART;TZID=America/Chicago:20261203T170000
DTEND;TZID=America/Chicago:20261203T190000
SEQUENCE:0
END:VEVENT
END:VCALENDAR
