BEGIN:VCALENDAR
VERSION:2.0
PRODID:-//Sabre//Sabre VObject 4.5.3//EN
CALSCALE:GREGORIAN
BEGIN:VEVENT
UID:sabre-vobject-a5a00aa3-d61a-4492-99af-5fc28ccd352b
DTSTAMP:20260421T103302Z
SUMMARY:August Luncheon
DESCRIPTION:UCO Boathouse\n&nbsp\;732 Riversport Dr.\, OKC\n
X-ALT-DESC:FMTTYPE=text/html:<!DOCTYPE HTML PUBLIC "-//W3C//DTD HTML 3.2//E
 N"><HTML><p>UCO Boathouse<br />\n&nbsp\;732 Riversport Dr.\, OKC</p>\n</HT
 ML>
CREATED;TZID=America/Chicago:20260223T144112
URL;VALUE=URI:https://www.crecokc.com/events/uncoming-events/august-luncheo
 n-3
DTSTART;TZID=America/Chicago:20260813T113000
DTEND;TZID=America/Chicago:20260813T130000
SEQUENCE:0
END:VEVENT
END:VCALENDAR
